BEGIN:VCALENDAR
VERSION:2.0
PRODID:-//Dream It Do It - ECPv6.15.20//NONSGML v1.0//EN
CALSCALE:GREGORIAN
METHOD:PUBLISH
X-ORIGINAL-URL:https://didiwny.com
X-WR-CALDESC:Events for Dream It Do It
REFRESH-INTERVAL;VALUE=DURATION:PT1H
X-Robots-Tag:noindex
X-PUBLISHED-TTL:PT1H
BEGIN:VTIMEZONE
TZID:America/New_York
BEGIN:DAYLIGHT
TZOFFSETFROM:-0500
TZOFFSETTO:-0400
TZNAME:EDT
DTSTART:20250309T070000
END:DAYLIGHT
BEGIN:STANDARD
TZOFFSETFROM:-0400
TZOFFSETTO:-0500
TZNAME:EST
DTSTART:20251102T060000
END:STANDARD
BEGIN:DAYLIGHT
TZOFFSETFROM:-0500
TZOFFSETTO:-0400
TZNAME:EDT
DTSTART:20260308T070000
END:DAYLIGHT
BEGIN:STANDARD
TZOFFSETFROM:-0400
TZOFFSETTO:-0500
TZNAME:EST
DTSTART:20261101T060000
END:STANDARD
BEGIN:DAYLIGHT
TZOFFSETFROM:-0500
TZOFFSETTO:-0400
TZNAME:EDT
DTSTART:20270314T070000
END:DAYLIGHT
BEGIN:STANDARD
TZOFFSETFROM:-0400
TZOFFSETTO:-0500
TZNAME:EST
DTSTART:20271107T060000
END:STANDARD
END:VTIMEZONE
BEGIN:VEVENT
DTSTART;TZID=America/New_York:20260605T090000
DTEND;TZID=America/New_York:20260605T140000
DTSTAMP:20260421T095056
CREATED:20251015T153402Z
LAST-MODIFIED:20260420T124505Z
UID:4383-1780650000-1780668000@didiwny.com
SUMMARY:Girls in Manufacturing Day at Chautauqua Lake Central School
DESCRIPTION:  \n \nGirls in Manufacturing Day is a one-day hands-on technical experience designed to empower and encourage girls\, in grades 7-12\, to consider careers in manufacturing. \nDuring this event participants will: \n\nLearn all stages of the manufacturing process\nUse tools and equipment to manufacture a project\nManufacture a project that they can take home\nMeet women leaders in the area who work in manufacturing.\n\nThis event is for students from Chautauqua Lake\, Brocton\, and Clymer.  Contact your school guidance counselor to attend. \nDream It Do It Western New York offers equal opportunity programming. While the Girls in Manufacturing program is focused on females the program is open to all genders. Women make up about 47% of the American workforce but only 30% work in manufacturing. The focus of Girls in Manufacturing programming is to encourage more girls and women to consider careers in manufacturing. \nIf you have any further questions regarding this event contact Cindy Aronson at caronson@didiwny.com. \n  \n  \n 
URL:https://didiwny.com/event/girls-in-manufacturing-camp-2026-at-chautauqua-lake-central-school/
LOCATION:Chautauqua Lake Central School\, 100 N Erie St\, Mayville\, NY\, 14757
END:VEVENT
BEGIN:VEVENT
DTSTART;TZID=America/New_York:20260803T090000
DTEND;TZID=America/New_York:20260807T140000
DTSTAMP:20260421T095056
CREATED:20251022T130259Z
LAST-MODIFIED:20260318T161808Z
UID:4402-1785747600-1786111200@didiwny.com
SUMMARY:Manufacturing Mayhem Camp - Jamestown\, NY
DESCRIPTION:  \nRegistration now open!  Seats are limited.  Register today! \nOn behalf of Dream It Do It Western New York\, an initiative of the Manufacturers Association of the Southern Tier we invite you to participate in Manufacturing Mayhem Camp 2026. This event is for students in grades 8-12th\, generally students 13 years and older. Participants will learn about the manufacturing process\, tour a local manufacturer\, and create/manufacture a different project each day. Students participating get to build a project and take it home with them. Lunch will be provided. Participants also get a tee-shirt. There is no cost to participate in this event! \nWhere:\nJamestown Community College’s Manufacturing Technology Institute (MTI)\nWhen:\nAugust 3-7\, 2026\n9:00 am -2:00 pm each day \nIf you have any questions please contact Cindy Aronson at caronson@didiwny.com. \nRegister today! 
URL:https://didiwny.com/event/manufacturing-mayhem-camp-jamestown-ny/
LOCATION:Manufacturing Technology Institute @ JCC – Jamestown\, 512 Falconer Street\, Jamestown\, NY\, 14701\, United States
END:VEVENT
END:VCALENDAR